BEGIN:VCALENDAR
VERSION:2.0
PRODID:icalendar-ruby
CALSCALE:GREGORIAN
METHOD:PUBLISH
BEGIN:VEVENT
DTSTAMP:20260422T223017Z
UID:20-1701820@churchrox.com
DTSTART:20261003T130000Z
DTEND:20261003T143000Z
CLASS:PUBLIC
CREATED:20260422T150916
DESCRIPTION:
LAST-MODIFIED:20260422T150916
LOCATION:Roxbury Office Conference Room
SUMMARY:Men's Bible Study
URL;VALUE=URI:https://www.churchrox.com/events/mens-bible-study/2026-10-03
ATTACH;FILENAME=6xhvuiw29pzfc88780ib8z5dnal.JPG;FMTTYPE=image/jpeg:https://
 dq5pwpg1q8ru0.cloudfront.net/2023/01/05/09/24/15/714f55f2-696d-487d-89b8-6
 ceda01d8b46/6xhvuiw29pzfc88780ib8z5dnal.JPG
END:VEVENT
END:VCALENDAR
